BEGIN:VCALENDAR
VERSION:2.0
PRODID:-//ACUE | Empowering Educators - ECPv6.15.20//NONSGML v1.0//EN
CALSCALE:GREGORIAN
METHOD:PUBLISH
X-WR-CALNAME:ACUE | Empowering Educators
X-ORIGINAL-URL:https://acue.org
X-WR-CALDESC:Events for ACUE | Empowering Educators
REFRESH-INTERVAL;VALUE=DURATION:PT1H
X-Robots-Tag:noindex
X-PUBLISHED-TTL:PT1H
BEGIN:VTIMEZONE
TZID:UTC
BEGIN:STANDARD
TZOFFSETFROM:+0000
TZOFFSETTO:+0000
TZNAME:UTC
DTSTART:20250101T000000
END:STANDARD
END:VTIMEZONE
BEGIN:VEVENT
DTSTART;VALUE=DATE:20260201
DTEND;VALUE=DATE:20260205
DTSTAMP:20260425T115517
CREATED:20260116T191349Z
LAST-MODIFIED:20260128T221248Z
UID:4503-1769904000-1770249599@acue.org
SUMMARY:NAICU Annual Meeting​   ​
DESCRIPTION:Washington\, DC \n 
URL:https://acue.org/event/naicu-annual-meeting-feb-1-4/
CATEGORIES:National Conference
END:VEVENT
BEGIN:VEVENT
DTSTART;VALUE=DATE:20260225
DTEND;VALUE=DATE:20260301
DTSTAMP:20260425T115517
CREATED:20251201T173157Z
LAST-MODIFIED:20260128T192950Z
UID:3850-1771977600-1772323199@acue.org
SUMMARY:ACEx2026
DESCRIPTION:Washington\, DC
URL:https://acue.org/event/acex2026/
CATEGORIES:National Conference
END:VEVENT
END:VCALENDAR